BEGIN:VCALENDAR
VERSION:2.0
PRODID:-//FertilityCare Centers International - ECPv6.15.17//NONSGML v1.0//EN
CALSCALE:GREGORIAN
METHOD:PUBLISH
X-WR-CALNAME:FertilityCare Centers International
X-ORIGINAL-URL:https://fertilitycareinternational.org
X-WR-CALDESC:Events for FertilityCare Centers International
REFRESH-INTERVAL;VALUE=DURATION:PT1H
X-Robots-Tag:noindex
X-PUBLISHED-TTL:PT1H
BEGIN:VTIMEZONE
TZID:UTC
BEGIN:STANDARD
TZOFFSETFROM:+0000
TZOFFSETTO:+0000
TZNAME:UTC
DTSTART:20240101T000000
END:STANDARD
END:VTIMEZONE
BEGIN:VTIMEZONE
TZID:Europe/Paris
BEGIN:DAYLIGHT
TZOFFSETFROM:+0100
TZOFFSETTO:+0200
TZNAME:CEST
DTSTART:20240331T010000
END:DAYLIGHT
BEGIN:STANDARD
TZOFFSETFROM:+0200
TZOFFSETTO:+0100
TZNAME:CET
DTSTART:20241027T010000
END:STANDARD
BEGIN:DAYLIGHT
TZOFFSETFROM:+0100
TZOFFSETTO:+0200
TZNAME:CEST
DTSTART:20250330T010000
END:DAYLIGHT
BEGIN:STANDARD
TZOFFSETFROM:+0200
TZOFFSETTO:+0100
TZNAME:CET
DTSTART:20251026T010000
END:STANDARD
BEGIN:DAYLIGHT
TZOFFSETFROM:+0100
TZOFFSETTO:+0200
TZNAME:CEST
DTSTART:20260329T010000
END:DAYLIGHT
BEGIN:STANDARD
TZOFFSETFROM:+0200
TZOFFSETTO:+0100
TZNAME:CET
DTSTART:20261025T010000
END:STANDARD
END:VTIMEZONE
BEGIN:VEVENT
DTSTART;TZID=UTC:20251022T000000
DTEND;TZID=UTC:20251025T235959
DTSTAMP:20260422T223011
CREATED:20250925T200757Z
LAST-MODIFIED:20251010T161011Z
UID:303-1761091200-1761436799@fertilitycareinternational.org
SUMMARY:FertilityCare Centers of Nigeria Scientific Conference
DESCRIPTION:Theme: Reawakening Fertility & Well-Being\n\nDate & Time: Oct. 23-25\, 2025\nLocation: Hotel Sylvia\, 66 Ezillo Avenue\, Independence Layout\, Enugu\nCost: Members – Early Bird (until 4th Oct): N30\,000.00\, Late (5th Oct – 22nd Oct): N35\,000.00\, On Site (23rd Oct): N40\,000.00; Non-Members – Early: N35\,000.00\, Late: N40\,000.00\, On Site: N50\,000.00; Medical/Nursing Students – Early: N15\,000.00\, Late: N20\,000.00\, On Site: N25\,000.00\n\nThe conference\, presented by the FertilityCare Centres of Nigeria (FCCNIG) and affiliate of FertilityCare Centres of Africa (FCCAf)\, is themed “Reawakening: Fertility & Well-Being.” It includes sub-themes such as research on CKMS and NaPro Technology with evidence on the ground and the way forward\, as well as the Creighton Model System Charts being pregnant with information. Participants are invited to submit abstracts or case presentations by the deadline of 30th of June\, 2025. Goodwill messages can be submitted in categories like full page\, half page\, or quarter page. Payments should be made to the specified account details\, with evidence sent to the provided emails or WhatsApp number. \nRegistration\nRegistration Periods and Fees\n\n\n\nCategory\nEarly Bird (2nd April – 4th Oct)\nLate Registration (5th Oct – 22nd Oct)\nOn Site Registration (23rd Oct 2025)\n\n\n\n\nMembers\nN300\,000.00\nN350\,000.00\nN400\,000.00\n\n\nNon-Members\nN350\,000.00\nN400\,000.00\nN500\,000.00\n\n\nMedical Students / Nursing Students / Non-Medical Students\nN150\,000.00\nN200\,000.00\nN250\,000.00\n\n\n\nAccount Details\n\nAccount Number: 0030868662\nAccount Name: FertilityCare Centres of Africa\nBank: Access Bank Plc\n\nSubmit Abstracts/Case Presentations To:\n\nezenkwelee@gmail.com\ncessiemary@yahoo.com\n\nGoodwill Messages Categories\n\nFull Page: N150\,000.00\nHalf Page: N100\,000.00\nQuarter Page: N75\,000.00\n\nPlease submit good will messages to ezenkwelee@gmail.com / Whatsapp 080308085375. \nAll Evidence of Payment To:\n\n080308085375\n081336365245\n08033168919\n\nContacts\n\nDr. Francis Achebe\nFCCNig. Vice President\nDr. Ezenkwelee EP\nFCCNig Eastern Zone Coordinator\nLOC Chairperson
URL:https://fertilitycareinternational.org/event/nigeria-8th-agm-scientific-conference/
LOCATION:Hotel Sylvia\, 66 Ezillo Avenue\, Independence Layout\, Enugu\, Enugu State\, 400271\, Nigeria
END:VEVENT
BEGIN:VEVENT
DTSTART;TZID=Europe/Paris:20251004T083000
DTEND;TZID=Europe/Paris:20251004T083000
DTSTAMP:20260422T223011
CREATED:20250925T200003Z
LAST-MODIFIED:20250925T200535Z
UID:302-1759566600-1759566600@fertilitycareinternational.org
SUMMARY:Ireland — Family Life Education: Our Hope for the Future
DESCRIPTION:Family Life Education: Our Hope for the Future\n\nDate & Time: October 4\, 2025\, 9:00 AM – 5:00 PM\nLocation: Knock House Hotel\, Knock\, Co. Mayo\, F12 R6Y5 (and by Zoom)\nCost: Conference (in person/Zoom) €60\, Buffet Lunch €30; Discount for students and old age pensioners €55 (with valid ID)\n\nThe Natural Family Planning Teachers Association of Ireland (NFPTAI)\, in association with the European Institute of Family Life Education (EIFLE/IEEF)\, is hosting a conference as part of the EIFLE/IEEF Annual General Meeting from October 3-5\, 2025. Open to everyone\, it focuses on cherishing family as society’s foundation\, respecting life from natural conception to deepen married love\, and emphasizing holistic education and lifelong learning for family growth. The event protects Christian values in family\, life\, and education to ensure societal well-being. \n\nSpeakers are experts in living\, teaching\, and learning that “God’s way is nature’s way.”\nThe schedule includes an optional Mass at 8:00 AM in the Apparition Chapel at Knock Shrine\, registration from 8:30 AM\, conference start at 9:15 AM\, buffet lunch at 1:00 PM\, lectures ending by 3:30 PM\, and optional activities from 3:30-5:00 PM: a complimentary tour of Knock Shrine Museum and Creation Garden or a fertility charting workshop.\nContinuous Professional Development (CPD) points are available: 6 internal CME for medical\, nursing\, and education professionals.\nRegistration is available via Eventbrite.\nEvening dinners on Friday and Saturday are available for delegates not staying at the hotel\, payable directly to the hotel.\n\nAccommodations:\n\nKnock House Hotel: Conference rate for dinner\, bed\, and breakfast (quote booking reference)\nAlternatives: Drum Haven Bed & Breakfast\, Cara Guest House\, Magdalen Lawless Bed and Breakfast\, Little Way Centre\n\nList of Speakers\n\nKay O’Dwyer (Creighton Model Practitioner\, NaPro and Fertility Care Centres Ireland): NaPro Fertility Care for Life\, followed by a workshop on fertility charting.\nDr. Fidelma Healy Eames (Education\, Career and Wellbeing Consultant\, Director and Lead Educator with Study and Careers; former Government Senator and Educator): Enabling the learning of Christian values.\nSinead Strong (Founder of Catholic Mothers Ireland): The vocation and true meaning of being a Catholic mother.\nMichelle Kelly (General Manager of Pure in Heart Ireland): Our fractured understanding of human sexuality\, and the needed remedy.\nPatrick McCrystal (Director of Human Life International): Marriage\, are you ready?\n\nRegister here.
URL:https://fertilitycareinternational.org/event/ireland-family-life-education-our-hope-for-the-future/
LOCATION:Knock House Hotel\, Knock\, County Mayo\, F12 R6Y5\, Ireland
END:VEVENT
END:VCALENDAR