BEGIN:VCALENDAR
VERSION:2.0
PRODID:-//FertilityCare Centers International - ECPv6.15.17//NONSGML v1.0//EN
CALSCALE:GREGORIAN
METHOD:PUBLISH
X-WR-CALNAME:FertilityCare Centers International
X-ORIGINAL-URL:https://fertilitycareinternational.org
X-WR-CALDESC:Events for FertilityCare Centers International
REFRESH-INTERVAL;VALUE=DURATION:PT1H
X-Robots-Tag:noindex
X-PUBLISHED-TTL:PT1H
BEGIN:VTIMEZONE
TZID:UTC
BEGIN:STANDARD
TZOFFSETFROM:+0000
TZOFFSETTO:+0000
TZNAME:UTC
DTSTART:20240101T000000
END:STANDARD
END:VTIMEZONE
BEGIN:VTIMEZONE
TZID:America/Sao_Paulo
BEGIN:STANDARD
TZOFFSETFROM:-0300
TZOFFSETTO:-0300
TZNAME:-03
DTSTART:20240101T000000
END:STANDARD
END:VTIMEZONE
BEGIN:VEVENT
DTSTART;TZID=UTC:20251114T000000
DTEND;TZID=UTC:20251115T235959
DTSTAMP:20260422T174046
CREATED:20251023T154716Z
LAST-MODIFIED:20251030T204528Z
UID:318-1763078400-1763251199@fertilitycareinternational.org
SUMMARY:2nd International Congress of NaProTechnology
DESCRIPTION:2nd International Congress of NaProTechnology: Science at the Service of Human Procreation\nThe 2nd International Congress of NaProTechnology is scheduled for November 14–15\, 2025\, at the Universidad Francisco de Vitoria in Madrid\, Spain. This significant event will showcase the latest breakthroughs in procreative science\, specifically addressing the need for evidence-based\, root-cause procreative medicine. A major highlight will be the presentation of the largest research study on natural fertility to date\, focusing on the application of NaProTechnology in Spain\, which aims to further validate its clinical effectiveness. \nThe congress features 29 speakers\, including Dr. Thomas W. Hilgers and Dr. Teresa A. Hilgers from the United States\, who will speak alongside other leading international experts. The event is designed for healthcare professionals\, families exploring fertility options\, and anyone interested in the science behind natural conception\, offering an inspiring perspective and a chance to reignite hope for natural parenthood. For those unable to attend in person\, recorded sessions will be made available post-congress. You can learn more and register here.
URL:https://fertilitycareinternational.org/event/2nd-international-congress-of-naprotechnology/
LOCATION:Universidad Francisco de Vitoria\, Madrid\, Spain
END:VEVENT
BEGIN:VEVENT
DTSTART;TZID=America/Sao_Paulo:20251115T083000
DTEND;TZID=America/Sao_Paulo:20251115T173000
DTSTAMP:20260422T174046
CREATED:20251030T205804Z
LAST-MODIFIED:20251031T141456Z
UID:329-1763195400-1763227800@fertilitycareinternational.org
SUMMARY:Apreciación de la Fertilidad y NaProTecnología
DESCRIPTION:The FertilityCare Argentina is hosting a virtual event titled “Apreciación de la Fertilidad y NaProTecnología” on Saturday\, November 15\, 2025\, aimed at health professionals\, medical students\, and the general public in the Southern Cone region\, including Argentina\, Paraguay\, Chile\, Uruguay\, and Bolivia. This online journey focuses on appreciating fertility and exploring NaProTechnology\, a natural procreative approach to reproductive health. \nThe event runs from 8:30 a.m. to 5:30 p.m. in Argentina\, Paraguay\, Chile\, and Uruguay time zones\, or 7:30 a.m. to 4:30 p.m. in Bolivia\, with a registration cost of $30\,000. Interested participants can sign up via the provided inscription link to join this educational session on fertility awareness and related technologies. \nSign up here.
URL:https://fertilitycareinternational.org/event/apreciacion-de-la-fertilidad-y-naprotecnologia/
END:VEVENT
END:VCALENDAR